BEGIN:VCALENDAR
VERSION:2.0
PRODID:-//Jenkins MBA - ECPv6.15.20//NONSGML v1.0//EN
CALSCALE:GREGORIAN
METHOD:PUBLISH
X-WR-CALNAME:Jenkins MBA
X-ORIGINAL-URL:https://mba.ncsu.edu
X-WR-CALDESC:Events for Jenkins MBA
REFRESH-INTERVAL;VALUE=DURATION:PT1H
X-Robots-Tag:noindex
X-PUBLISHED-TTL:PT1H
BEGIN:VTIMEZONE
TZID:America/New_York
BEGIN:DAYLIGHT
TZOFFSETFROM:-0500
TZOFFSETTO:-0400
TZNAME:EDT
DTSTART:20250309T070000
END:DAYLIGHT
BEGIN:STANDARD
TZOFFSETFROM:-0400
TZOFFSETTO:-0500
TZNAME:EST
DTSTART:20251102T060000
END:STANDARD
BEGIN:DAYLIGHT
TZOFFSETFROM:-0500
TZOFFSETTO:-0400
TZNAME:EDT
DTSTART:20260308T070000
END:DAYLIGHT
BEGIN:STANDARD
TZOFFSETFROM:-0400
TZOFFSETTO:-0500
TZNAME:EST
DTSTART:20261101T060000
END:STANDARD
BEGIN:DAYLIGHT
TZOFFSETFROM:-0500
TZOFFSETTO:-0400
TZNAME:EDT
DTSTART:20270314T070000
END:DAYLIGHT
BEGIN:STANDARD
TZOFFSETFROM:-0400
TZOFFSETTO:-0500
TZNAME:EST
DTSTART:20271107T060000
END:STANDARD
END:VTIMEZONE
BEGIN:VEVENT
DTSTART;TZID=America/New_York:20260123T120000
DTEND;TZID=America/New_York:20260123T130000
DTSTAMP:20260424T064207
CREATED:20251130T160107Z
LAST-MODIFIED:20251130T160317Z
UID:69465-1769169600-1769173200@mba.ncsu.edu
SUMMARY:Virtual Information Session
DESCRIPTION:Join us for a live\, virtual information session to discover how the NC State Jenkins MBA can help you achieve your personal and professional goals. \n\n\n\nIn this session\, you’ll: \n\n\n\n\nGet an overview of our flexible program formats\, innovative curriculum\, and graduate certificates\n\n\n\nLearn about the admissions process\, application tips\, and key deadlines\n\n\n\nHear insights from program staff and current MBA students\n\n\n\nHave the chance to ask your questions live during a Q&A\n\n\n\n\nWhether you’re just beginning your MBA search or finalizing your decision\, this session is a great opportunity to find out if the Jenkins MBA is the right fit for you. \n\n\n\n          Registration\n        \n      Loading…
URL:https://mba.ncsu.edu/event/virtual-information-session-2/
ATTACH;FMTTYPE=image/jpeg:https://mba.ncsu.edu/wp-content/uploads/sites/440/2025/11/Copy-of-8.27.25-Info-Session.jpg
END:VEVENT
END:VCALENDAR